BEGIN:VCALENDAR
VERSION:2.0
PRODID:-//Mb Dental Institute
CALSCALE:GREGORIAN
METHOD:PUBLISH
X-WR-CALNAME:Mb Dental Institute
X-ORIGINAL-URL:https://mbdental.institute/product/restorative-mastery-protocoale-clinice-pas-cu-pas-pentru-restaurari-directe-si-indirecte-noiembrie-2026-bucuresti/
X-WR-CALDESC:Restorative Mastery – protocoale clinice pas cu pas pentru restaurări directe și indirecte (noiembrie 2026, București)
BEGIN:VEVENT
DTSTART:20261113T090000
DTEND:20261114T170000
SUMMARY:Restorative Mastery – protocoale clinice pas cu pas pentru restaurări directe și indirecte (noiembrie 2026, București)
DESCRIPTION:Curs intensiv de 2 zile: sesiuni teoretice + workshop-uri
LOCATION:Centrul de Training Dentsply Sirona, str. Vulturilor 98, Bucuresti
END:VEVENT
END:VCALENDAR
