BEGIN:VCALENDAR
VERSION:2.0
PRODID:-//Mb Dental Institute
CALSCALE:GREGORIAN
METHOD:PUBLISH
X-WR-CALNAME:Mb Dental Institute
X-ORIGINAL-URL:https://mbdental.institute/product/restorative-mastery-protocoale-clinice-pas-cu-pas-pentru-restaurari-directe-si-indirecte-mai-2026-cluj/
X-WR-CALDESC:Restorative Mastery – protocoale clinice pas cu pas pentru restaurări directe și indirecte (mai 2026, Cluj)
BEGIN:VEVENT
DTSTART:20260507T090000
DTEND:20260508T170000
SUMMARY:Restorative Mastery – protocoale clinice pas cu pas pentru restaurări directe și indirecte (mai 2026, Cluj)
DESCRIPTION:Curs intensiv de 2 zile: sesiuni teoretice + workshop-uri
LOCATION:Strada Salcâmului 21, Cluj-Napoca, Romania
END:VEVENT
END:VCALENDAR
