BEGIN:VCALENDAR
VERSION:2.0
PRODID:-//Mb Dental Institute
CALSCALE:GREGORIAN
METHOD:PUBLISH
X-WR-CALNAME:Mb Dental Institute
X-ORIGINAL-URL:https://mbdental.institute/product/basic-endo-perio-curs-teoretic-cu-2-live-op-uri-in-cabinet-septembrie-2026/
X-WR-CALDESC:Basic Endo &amp; Perio &#8211; curs teoretic cu 2 live OP-uri în cabinet (septembrie 2026)
BEGIN:VEVENT
DTSTART:20260926T080000
DTEND:20260926T153000
SUMMARY:Basic Endo &amp; Perio &#8211; curs teoretic cu 2 live OP-uri în cabinet (septembrie 2026)
DESCRIPTION:<p class="p1">Orar: 10:00-16:00</p>
LOCATION:MB Dental Târgu Mureș, Bulevardul 1 Decembrie 1918, Târgu Mureș, Romania
END:VEVENT
END:VCALENDAR
